BEGIN:VCALENDAR
VERSION:2.0
PRODID:-//Contratero//ES
CALSCALE:GREGORIAN
METHOD:PUBLISH
BEGIN:VEVENT
UID:2023-002-116@contratero.es
DTSTAMP:20260425T224720Z
DTSTART:20231116T235959
DTEND:20231117T005959
SUMMARY:Cierre: Servicio de actualización\, ampliación y mantenimie
DESCRIPTION:Servicio de actualización\, ampliación y mantenimiento del Sistema PACS de Mutua Montañesa\\n\\nOrganismo: Dirección General de Mutua Montañesa\\n\\nVer en Contratero: https://contratero.es/contracts/2023-002-116
URL:https://contratero.es/contracts/2023-002-116
STATUS:CONFIRMED
BEGIN:VALARM
TRIGGER:-P1D
ACTION:DISPLAY
DESCRIPTION:Recordatorio: Servicio de actualización\, amp
END:VALARM
END:VEVENT
END:VCALENDAR