BEGIN:VCALENDAR
VERSION:2.0
PRODID:-//Contratero//ES
CALSCALE:GREGORIAN
METHOD:PUBLISH
BEGIN:VEVENT
UID:2023-00290@contratero.es
DTSTAMP:20260423T000923Z
DTSTART:20240126T235959
DTEND:20240127T005959
SUMMARY:Cierre: Servicio de soporte a los usuarios de la Autoridad
DESCRIPTION:Servicio de soporte a los usuarios de la Autoridad Portuaria de Barcelona en el ámbito de las tecnologías de la información y la comunicación (TIC). Clave de expediente: 2023R330057\\n\\nOrganismo: Presidencia del Consejo de Administración de la Autoridad Portuaria de Barcelona (PORT DE BARCELONA)\\n\\nVer en Contratero: https://contratero.es/contracts/2023-00290
URL:https://contratero.es/contracts/2023-00290
STATUS:CONFIRMED
BEGIN:VALARM
TRIGGER:-P1D
ACTION:DISPLAY
DESCRIPTION:Recordatorio: Servicio de soporte a los usua
END:VALARM
END:VEVENT
END:VCALENDAR