BEGIN:VCALENDAR
VERSION:2.0
PRODID:-//Contratero//ES
CALSCALE:GREGORIAN
METHOD:PUBLISH
BEGIN:VEVENT
UID:2023-00293@contratero.es
DTSTAMP:20260422T203033Z
DTSTART:20230322T235959
DTEND:20230323T005959
SUMMARY:Cierre: Renovación de licencias de control remoto netop de
DESCRIPTION:Renovación de licencias de control remoto netop de los canales venta de renfe viajeros s.m.e.\, s.a. renovación de licencias de control remoto netop de los canales venta de renfe viajeros s.m.e.\, s.a.\\n\\nOrganismo: Dirección General de Renfe Viajeros Sociedad Mercantil Estatal\, S.A.\\n\\nVer en Contratero: https://contratero.es/contracts/2023-00293
URL:https://contratero.es/contracts/2023-00293
STATUS:CONFIRMED
BEGIN:VALARM
TRIGGER:-P1D
ACTION:DISPLAY
DESCRIPTION:Recordatorio: Renovación de licencias de con
END:VALARM
END:VEVENT
END:VCALENDAR