BEGIN:VCALENDAR
VERSION:2.0
PRODID:-//Contratero//ES
CALSCALE:GREGORIAN
METHOD:PUBLISH
BEGIN:VEVENT
UID:2023-00318@contratero.es
DTSTAMP:20260422T194339Z
DTSTART:20240216T235959
DTEND:20240217T005959
SUMMARY:Cierre: Acuerdo Marco para el desarrollo y el mantenimient
DESCRIPTION:Acuerdo Marco para el desarrollo y el mantenimiento evolutivo del Port Community System (PCS) de la Autoridad Portuaria de Barcelona. Clave de expediente: 2023R360014\\n\\nOrganismo: Presidencia del Consejo de Administración de la Autoridad Portuaria de Barcelona (PORT DE BARCELONA)\\n\\nVer en Contratero: https://contratero.es/contracts/2023-00318
URL:https://contratero.es/contracts/2023-00318
STATUS:CONFIRMED
BEGIN:VALARM
TRIGGER:-P1D
ACTION:DISPLAY
DESCRIPTION:Recordatorio: Acuerdo Marco para el desarrol
END:VALARM
END:VEVENT
END:VCALENDAR