BEGIN:VCALENDAR
VERSION:2.0
PRODID:-//Contratero//ES
CALSCALE:GREGORIAN
METHOD:PUBLISH
BEGIN:VEVENT
UID:2023-00366@contratero.es
DTSTAMP:20260424T235403Z
DTSTART:20231218T235959
DTEND:20231219T005959
SUMMARY:Cierre: Renovación de licencias y subscripciones de aplica
DESCRIPTION:Renovación de licencias y subscripciones de aplicaciones de usuario para la Autoridad Portuaria de Barcelona. Clave de expediente: 2023R330073. Ref. Servicio de Contratación: 2023-000366\\n\\nOrganismo: Presidencia del Consejo de Administración de la Autoridad Portuaria de Barcelona (PORT DE BARCELONA)\\n\\nVer en Contratero: https://contratero.es/contracts/2023-00366
URL:https://contratero.es/contracts/2023-00366
STATUS:CONFIRMED
BEGIN:VALARM
TRIGGER:-P1D
ACTION:DISPLAY
DESCRIPTION:Recordatorio: Renovación de licencias y subs
END:VALARM
END:VEVENT
END:VCALENDAR