BEGIN:VCALENDAR
VERSION:2.0
PRODID:-//Contratero//ES
CALSCALE:GREGORIAN
METHOD:PUBLISH
BEGIN:VEVENT
UID:2023-00883@contratero.es
DTSTAMP:20260419T172602Z
DTSTART:20230601T235959
DTEND:20230602T005959
SUMMARY:Cierre: Servicios Portafirmas y Firmas\, Custodia en la Nub
DESCRIPTION:Servicios Portafirmas y Firmas\, Custodia en la Nube y Cumplimentación de Formularios Digitales\\n\\nOrganismo: Consejero Delegado de Ingeniería de Sistemas para la Defensa de España S.A.\, S.M.E. y M.P.\\n\\nVer en Contratero: https://contratero.es/contracts/2023-00883
URL:https://contratero.es/contracts/2023-00883
STATUS:CONFIRMED
BEGIN:VALARM
TRIGGER:-P1D
ACTION:DISPLAY
DESCRIPTION:Recordatorio: Servicios Portafirmas y Firmas
END:VALARM
END:VEVENT
END:VCALENDAR