BEGIN:VCALENDAR
VERSION:2.0
PRODID:-//Contratero//ES
CALSCALE:GREGORIAN
METHOD:PUBLISH
BEGIN:VEVENT
UID:2023-0124@contratero.es
DTSTAMP:20260426T005230Z
DTSTART:20230511T235959
DTEND:20230512T005959
SUMMARY:Cierre: Servicio de asesoramiento técnico para el diseño\, 
DESCRIPTION:Servicio de asesoramiento técnico para el diseño\, personalización\, implantación\, monitorización y administración de una plataforma e-learning de código abierto (lms) que permita la impartición de curs...\\n\\nOrganismo: Paradores de Turismo de España\, S.M.E.\, S.A.\\n\\nVer en Contratero: https://contratero.es/contracts/2023-0124
URL:https://contratero.es/contracts/2023-0124
STATUS:CONFIRMED
BEGIN:VALARM
TRIGGER:-P1D
ACTION:DISPLAY
DESCRIPTION:Recordatorio: Servicio de asesoramiento técn
END:VALARM
END:VEVENT
END:VCALENDAR