BEGIN:VCALENDAR
VERSION:2.0
PRODID:-//Contratero//ES
CALSCALE:GREGORIAN
METHOD:PUBLISH
BEGIN:VEVENT
UID:2023-04340@contratero.es
DTSTAMP:20260421T035935Z
DTSTART:20230711T235959
DTEND:20230712T005959
SUMMARY:Cierre: Renovación de  licencias sistemas operativos y bas
DESCRIPTION:Renovación de  licencias sistemas operativos y bases de datos microsoft\\n\\nOrganismo: Dirección General Económico-Financiera de la Entidad Pública Empresarial RENFE-Operadora\\n\\nVer en Contratero: https://contratero.es/contracts/2023-04340
URL:https://contratero.es/contracts/2023-04340
STATUS:CONFIRMED
BEGIN:VALARM
TRIGGER:-P1D
ACTION:DISPLAY
DESCRIPTION:Recordatorio: Renovación de  licencias siste
END:VALARM
END:VEVENT
END:VCALENDAR