BEGIN:VCALENDAR
VERSION:2.0
PRODID:-//Contratero//ES
CALSCALE:GREGORIAN
METHOD:PUBLISH
BEGIN:VEVENT
UID:2023-04353@contratero.es
DTSTAMP:20260419T164203Z
DTSTART:20240219T235959
DTEND:20240220T005959
SUMMARY:Cierre: Suministro de terminales para las operaciones de v
DESCRIPTION:Suministro de terminales para las operaciones de venta a bordo y checkin y su servicio de gestion\, comunicaciones\, soporte y mto.\\n\\nOrganismo: Dirección General de Renfe Viajeros Sociedad Mercantil Estatal\, S.A.\\n\\nVer en Contratero: https://contratero.es/contracts/2023-04353
URL:https://contratero.es/contracts/2023-04353
STATUS:CONFIRMED
BEGIN:VALARM
TRIGGER:-P1D
ACTION:DISPLAY
DESCRIPTION:Recordatorio: Suministro de terminales para 
END:VALARM
END:VEVENT
END:VCALENDAR