BEGIN:VCALENDAR
VERSION:2.0
PRODID:-//Contratero//ES
CALSCALE:GREGORIAN
METHOD:PUBLISH
BEGIN:VEVENT
UID:2023-04721@contratero.es
DTSTAMP:20260423T145253Z
DTSTART:20230719T235959
DTEND:20230720T005959
SUMMARY:Cierre: Servicios de oficina de privacidad
DESCRIPTION:Servicios de oficina de privacidad\\n\\nOrganismo: Dirección General Económico-Financiera de la Entidad Pública Empresarial RENFE-Operadora\\n\\nVer en Contratero: https://contratero.es/contracts/2023-04721
URL:https://contratero.es/contracts/2023-04721
STATUS:CONFIRMED
BEGIN:VALARM
TRIGGER:-P1D
ACTION:DISPLAY
DESCRIPTION:Recordatorio: Servicios de oficina de privac
END:VALARM
END:VEVENT
END:VCALENDAR