BEGIN:VCALENDAR
VERSION:2.0
PRODID:-//Contratero//ES
CALSCALE:GREGORIAN
METHOD:PUBLISH
BEGIN:VEVENT
UID:2023-092@contratero.es
DTSTAMP:20260423T015816Z
DTSTART:20240219T235959
DTEND:20240220T005959
SUMMARY:Cierre: Servicios de Mantenimiento y evolución de la Plata
DESCRIPTION:Servicios de Mantenimiento y evolución de la Plataforma Corporativa de Integración de Sistemas (PCIS).\\n\\nOrganismo: Presidencia de la Autoridad Portuaria de la Bahía de Algeciras\\n\\nVer en Contratero: https://contratero.es/contracts/2023-092
URL:https://contratero.es/contracts/2023-092
STATUS:CONFIRMED
BEGIN:VALARM
TRIGGER:-P1D
ACTION:DISPLAY
DESCRIPTION:Recordatorio: Servicios de Mantenimiento y e
END:VALARM
END:VEVENT
END:VCALENDAR