BEGIN:VCALENDAR
VERSION:2.0
PRODID:-//Contratero//ES
CALSCALE:GREGORIAN
METHOD:PUBLISH
BEGIN:VEVENT
UID:2023-1684@contratero.es
DTSTAMP:20260425T210131Z
DTSTART:20240315T235959
DTEND:20240316T005959
SUMMARY:Cierre: Mantenimiento\, Securización informática y Cloud pa
DESCRIPTION:Mantenimiento\, Securización informática y Cloud para el CPB Málaga\\n\\nOrganismo: Presidencia del Consorcio Provincial de Bomberos de Málaga\\n\\nVer en Contratero: https://contratero.es/contracts/2023-1684
URL:https://contratero.es/contracts/2023-1684
STATUS:CONFIRMED
BEGIN:VALARM
TRIGGER:-P1D
ACTION:DISPLAY
DESCRIPTION:Recordatorio: Mantenimiento\, Securización in
END:VALARM
END:VEVENT
END:VCALENDAR