BEGIN:VCALENDAR
VERSION:2.0
PRODID:-//Contratero//ES
CALSCALE:GREGORIAN
METHOD:PUBLISH
BEGIN:VEVENT
UID:2023-C13@contratero.es
DTSTAMP:20260422T202910Z
DTSTART:20230615T235959
DTEND:20230616T005959
SUMMARY:Cierre: Mantenimiento de licencias 'CAD' para el Cabildo d
DESCRIPTION:Mantenimiento de licencias 'CAD' para el Cabildo de Gran Canaria.\\n\\nOrganismo: Cartográfica de Canarias S.A.\\n\\nVer en Contratero: https://contratero.es/contracts/2023-C13
URL:https://contratero.es/contracts/2023-C13
STATUS:CONFIRMED
BEGIN:VALARM
TRIGGER:-P1D
ACTION:DISPLAY
DESCRIPTION:Recordatorio: Mantenimiento de licencias 'CA
END:VALARM
END:VEVENT
END:VCALENDAR