BEGIN:VCALENDAR
VERSION:2.0
PRODID:-//Contratero//ES
CALSCALE:GREGORIAN
METHOD:PUBLISH
BEGIN:VEVENT
UID:2023-P449@contratero.es
DTSTAMP:20260421T080847Z
DTSTART:20231031T235959
DTEND:20231101T005959
SUMMARY:Cierre: Servicio de Análisis y construcción de modelos y t
DESCRIPTION:Servicio de Análisis y construcción de modelos y tratamiento de datos\\n\\nOrganismo: Consejo de Administración de la Sociedad de Gestión de Activos procedentes de la Reestructuración Bancaria\, S.A\\n\\nVer en Contratero: https://contratero.es/contracts/2023-P449
URL:https://contratero.es/contracts/2023-P449
STATUS:CONFIRMED
BEGIN:VALARM
TRIGGER:-P1D
ACTION:DISPLAY
DESCRIPTION:Recordatorio: Servicio de Análisis y constru
END:VALARM
END:VEVENT
END:VCALENDAR