BEGIN:VCALENDAR
VERSION:2.0
PRODID:-//Contratero//ES
CALSCALE:GREGORIAN
METHOD:PUBLISH
BEGIN:VEVENT
UID:2023-P523@contratero.es
DTSTAMP:20260426T032827Z
DTSTART:20240119T235959
DTEND:20240120T005959
SUMMARY:Cierre: Servicio de gestión de factura electrónica de prov
DESCRIPTION:Servicio de gestión de factura electrónica de proveedores\\n\\nOrganismo: Consejo de Administración de la Sociedad de Gestión de Activos procedentes de la Reestructuración Bancaria\, S.A\\n\\nVer en Contratero: https://contratero.es/contracts/2023-P523
URL:https://contratero.es/contracts/2023-P523
STATUS:CONFIRMED
BEGIN:VALARM
TRIGGER:-P1D
ACTION:DISPLAY
DESCRIPTION:Recordatorio: Servicio de gestión de factura
END:VALARM
END:VEVENT
END:VCALENDAR