BEGIN:VCALENDAR
VERSION:2.0
PRODID:-//Contratero//ES
CALSCALE:GREGORIAN
METHOD:PUBLISH
BEGIN:VEVENT
UID:2023/00003@contratero.es
DTSTAMP:20260420T153042Z
DTSTART:20230214T235959
DTEND:20230215T005959
SUMMARY:Cierre: Suministro de licencias y servicios de soporte y m
DESCRIPTION:Suministro de licencias y servicios de soporte y mantenimiento del software E-coordina\\n\\nOrganismo: Rectorado de la Universidad de Córdoba\\n\\nVer en Contratero: https://contratero.es/contracts/2023/00003
URL:https://contratero.es/contracts/2023/00003
STATUS:CONFIRMED
BEGIN:VALARM
TRIGGER:-P1D
ACTION:DISPLAY
DESCRIPTION:Recordatorio: Suministro de licencias y serv
END:VALARM
END:VEVENT
END:VCALENDAR