BEGIN:VCALENDAR
VERSION:2.0
PRODID:-//Contratero//ES
CALSCALE:GREGORIAN
METHOD:PUBLISH
BEGIN:VEVENT
UID:2023/00008@contratero.es
DTSTAMP:20260422T071254Z
DTSTART:20230505T235959
DTEND:20230506T005959
SUMMARY:Cierre: Contratación del servicio de grabación de datos en
DESCRIPTION:Contratación del servicio de grabación de datos en la Entidad Estatal de Derecho Público Trabajo Penitenciario y Formación para el Empleo\, según lo indicado y descrito en el apartado 1 del Pliego de P...\\n\\nOrganismo: Gerencia de la Entidad Estatal de Derecho Público Trabajo Penitenciario y Formación para el Empleo\\n\\nVer en Contratero: https://contratero.es/contracts/2023/00008
URL:https://contratero.es/contracts/2023/00008
STATUS:CONFIRMED
BEGIN:VALARM
TRIGGER:-P1D
ACTION:DISPLAY
DESCRIPTION:Recordatorio: Contratación del servicio de g
END:VALARM
END:VEVENT
END:VCALENDAR