BEGIN:VCALENDAR
VERSION:2.0
PRODID:-//Contratero//ES
CALSCALE:GREGORIAN
METHOD:PUBLISH
BEGIN:VEVENT
UID:2023/00009659G@contratero.es
DTSTAMP:20260422T190819Z
DTSTART:20230519T235959
DTEND:20230520T005959
SUMMARY:Cierre: Contratar el servicio de mantenimiento de la licen
DESCRIPTION:Contratar el servicio de mantenimiento de la licencia Citrix ADC\\n\\nOrganismo: Alcaldia del Ayuntamiento de Vila-real\\n\\nVer en Contratero: https://contratero.es/contracts/2023/00009659G
URL:https://contratero.es/contracts/2023/00009659G
STATUS:CONFIRMED
BEGIN:VALARM
TRIGGER:-P1D
ACTION:DISPLAY
DESCRIPTION:Recordatorio: Contratar el servicio de mante
END:VALARM
END:VEVENT
END:VCALENDAR