BEGIN:VCALENDAR
VERSION:2.0
PRODID:-//Contratero//ES
CALSCALE:GREGORIAN
METHOD:PUBLISH
BEGIN:VEVENT
UID:2023/000133@contratero.es
DTSTAMP:20260423T044524Z
DTSTART:20230207T235959
DTEND:20230208T005959
SUMMARY:Cierre: Servicio de mantenimiento de las licencias CYPE (R
DESCRIPTION:Servicio de mantenimiento de las licencias CYPE (REF. 3/23)\\n\\nOrganismo: Junta de Gobierno del Ayuntamiento de Sevilla\\n\\nVer en Contratero: https://contratero.es/contracts/2023/000133
URL:https://contratero.es/contracts/2023/000133
STATUS:CONFIRMED
BEGIN:VALARM
TRIGGER:-P1D
ACTION:DISPLAY
DESCRIPTION:Recordatorio: Servicio de mantenimiento de l
END:VALARM
END:VEVENT
END:VCALENDAR