BEGIN:VCALENDAR
VERSION:2.0
PRODID:-//Contratero//ES
CALSCALE:GREGORIAN
METHOD:PUBLISH
BEGIN:VEVENT
UID:2023/001076@contratero.es
DTSTAMP:20260419T135200Z
DTSTART:20231218T235959
DTEND:20231219T005959
SUMMARY:Cierre: Servicio de uso de diversos dominios de Internet p
DESCRIPTION:Servicio de uso de diversos dominios de Internet por el Ayuntamiento de Sevilla\n(Ref. 21/23)\\n\\nOrganismo: Órganos Directivos del Ayuntamiento de Sevilla\\n\\nVer en Contratero: https://contratero.es/contracts/2023/001076
URL:https://contratero.es/contracts/2023/001076
STATUS:CONFIRMED
BEGIN:VALARM
TRIGGER:-P1D
ACTION:DISPLAY
DESCRIPTION:Recordatorio: Servicio de uso de diversos do
END:VALARM
END:VEVENT
END:VCALENDAR