BEGIN:VCALENDAR
VERSION:2.0
PRODID:-//Contratero//ES
CALSCALE:GREGORIAN
METHOD:PUBLISH
BEGIN:VEVENT
UID:2023/001452@contratero.es
DTSTAMP:20260423T131911Z
DTSTART:20230530T235959
DTEND:20230531T005959
SUMMARY:Cierre: Servicios de nuevos desarrollos y mantenimiento de
DESCRIPTION:Servicios de nuevos desarrollos y mantenimiento de la Plataforma de Aplicaciones de gestión de personal docente de Castilla La Mancha\, cofinanciado con Fondos Feder ( 2021-2027)\\n\\nOrganismo: Secretaría General de la Consejería de Hacienda\, Administraciones Públicas y Transformación Digital de la Junta de Comunidades de Castilla-La Mancha\\n\\nVer en Contratero: https://contratero.es/contracts/2023/001452
URL:https://contratero.es/contracts/2023/001452
STATUS:CONFIRMED
BEGIN:VALARM
TRIGGER:-P1D
ACTION:DISPLAY
DESCRIPTION:Recordatorio: Servicios de nuevos desarrollo
END:VALARM
END:VEVENT
END:VCALENDAR