BEGIN:VCALENDAR
VERSION:2.0
PRODID:-//Contratero//ES
CALSCALE:GREGORIAN
METHOD:PUBLISH
BEGIN:VEVENT
UID:2023/021.SER.ABRSA.MC@contratero.es
DTSTAMP:20260423T031122Z
DTSTART:20230330T235959
DTEND:20230331T005959
SUMMARY:Cierre: Servicio de mantenimiento evolutivo y correctivo d
DESCRIPTION:Servicio de mantenimiento evolutivo y correctivo de las 15 licencias de TOAD propiedad de la UAH.\\n\\nOrganismo: Gerencia de la Universidad de Alcalá\\n\\nVer en Contratero: https://contratero.es/contracts/2023/021.SER.ABRSA.MC
URL:https://contratero.es/contracts/2023/021.SER.ABRSA.MC
STATUS:CONFIRMED
BEGIN:VALARM
TRIGGER:-P1D
ACTION:DISPLAY
DESCRIPTION:Recordatorio: Servicio de mantenimiento evol
END:VALARM
END:VEVENT
END:VCALENDAR