BEGIN:VCALENDAR
VERSION:2.0
PRODID:-//Contratero//ES
CALSCALE:GREGORIAN
METHOD:PUBLISH
BEGIN:VEVENT
UID:2023/054@contratero.es
DTSTAMP:20260422T053855Z
DTSTART:20230906T235959
DTEND:20230907T005959
SUMMARY:Cierre: Servicios de web y aplicaciones informáticas para 
DESCRIPTION:Servicios de web y aplicaciones informáticas para la gestión\, organización y comunicación de competiciones deportivas municipales del Ayuntamiento de Pinto (Madrid)\\n\\nOrganismo: Concejal de Contratación del Ayuntamiento de Pinto\\n\\nVer en Contratero: https://contratero.es/contracts/2023/054
URL:https://contratero.es/contracts/2023/054
STATUS:CONFIRMED
BEGIN:VALARM
TRIGGER:-P1D
ACTION:DISPLAY
DESCRIPTION:Recordatorio: Servicios de web y aplicacione
END:VALARM
END:VEVENT
END:VCALENDAR