BEGIN:VCALENDAR
VERSION:2.0
PRODID:-//Contratero//ES
CALSCALE:GREGORIAN
METHOD:PUBLISH
BEGIN:VEVENT
UID:2023/063@contratero.es
DTSTAMP:20260422T170246Z
DTSTART:20230727T235959
DTEND:20230728T005959
SUMMARY:Cierre: Asesoramiento en Gestión Patrimonial con la herram
DESCRIPTION:Asesoramiento en Gestión Patrimonial con la herramienta informática GPA\\n\\nOrganismo: Gerencia del Consejo Insular de Aguas de Tenerife\\n\\nVer en Contratero: https://contratero.es/contracts/2023/063
URL:https://contratero.es/contracts/2023/063
STATUS:CONFIRMED
BEGIN:VALARM
TRIGGER:-P1D
ACTION:DISPLAY
DESCRIPTION:Recordatorio: Asesoramiento en Gestión Patri
END:VALARM
END:VEVENT
END:VCALENDAR