BEGIN:VCALENDAR
VERSION:2.0
PRODID:-//Contratero//ES
CALSCALE:GREGORIAN
METHOD:PUBLISH
BEGIN:VEVENT
UID:2023/14/S020204@contratero.es
DTSTAMP:20260419T173303Z
DTSTART:20230627T235959
DTEND:20230628T005959
SUMMARY:Cierre: Servicios de plataforma de administración electrón
DESCRIPTION:Servicios de plataforma de administración electrónica en modo Saas\\n\\nOrganismo: Junta de Gobierno Local del Ayuntamiento de Villanueva del Pardillo\\n\\nVer en Contratero: https://contratero.es/contracts/2023/14/S020204
URL:https://contratero.es/contracts/2023/14/S020204
STATUS:CONFIRMED
BEGIN:VALARM
TRIGGER:-P1D
ACTION:DISPLAY
DESCRIPTION:Recordatorio: Servicios de plataforma de adm
END:VALARM
END:VEVENT
END:VCALENDAR