BEGIN:VCALENDAR
VERSION:2.0
PRODID:-//Contratero//ES
CALSCALE:GREGORIAN
METHOD:PUBLISH
BEGIN:VEVENT
UID:2023/A/ASC/0613@contratero.es
DTSTAMP:20260421T121222Z
DTSTART:20230804T235959
DTEND:20230805T005959
SUMMARY:Cierre: Servicio de implantación a la última versión exist
DESCRIPTION:Servicio de implantación a la última versión existente del ERP de Gestión Microsoft Dynamics NAV para el área económico-financiera de MAZ M.C.S.S. nº 11\\n\\nOrganismo: Gerencia de MAZ Mútua de Accidentes de Trabajo y Enfermedades Profesionales de la Seguridad Social nº 11\\n\\nVer en Contratero: https://contratero.es/contracts/2023/A/ASC/0613
URL:https://contratero.es/contracts/2023/A/ASC/0613
STATUS:CONFIRMED
BEGIN:VALARM
TRIGGER:-P1D
ACTION:DISPLAY
DESCRIPTION:Recordatorio: Servicio de implantación a la 
END:VALARM
END:VEVENT
END:VCALENDAR