BEGIN:VCALENDAR
VERSION:2.0
PRODID:-//Contratero//ES
CALSCALE:GREGORIAN
METHOD:PUBLISH
BEGIN:VEVENT
UID:2023/ABSUB/000004@contratero.es
DTSTAMP:20260419T164628Z
DTSTART:20240201T235959
DTEND:20240202T005959
SUMMARY:Cierre: Renovación y modernización de los equipos de usuar
DESCRIPTION:Renovación y modernización de los equipos de usuario del Ayuntamiento de Pontevedra y suministro de herramienta de gestión para facilitar la administración de los mismos.\\n\\nOrganismo: Junta de Gobierno Local del Ayuntamiento de Pontevedra\\n\\nVer en Contratero: https://contratero.es/contracts/2023/ABSUB/000004
URL:https://contratero.es/contracts/2023/ABSUB/000004
STATUS:CONFIRMED
BEGIN:VALARM
TRIGGER:-P1D
ACTION:DISPLAY
DESCRIPTION:Recordatorio: Renovación y modernización de 
END:VALARM
END:VEVENT
END:VCALENDAR