BEGIN:VCALENDAR
VERSION:2.0
PRODID:-//Contratero//ES
CALSCALE:GREGORIAN
METHOD:PUBLISH
BEGIN:VEVENT
UID:2023/AR21U/00001455E@contratero.es
DTSTAMP:20260421T175420Z
DTSTART:20230918T235959
DTEND:20230919T005959
SUMMARY:Cierre: Asistencia técnica para el desarrollo de informes 
DESCRIPTION:Asistencia técnica para el desarrollo de informes y cuadros de mando en la aplicación COGNOS\\n\\nOrganismo: Intendencia de Madrid\\n\\nVer en Contratero: https://contratero.es/contracts/2023/AR21U/00001455E
URL:https://contratero.es/contracts/2023/AR21U/00001455E
STATUS:CONFIRMED
BEGIN:VALARM
TRIGGER:-P1D
ACTION:DISPLAY
DESCRIPTION:Recordatorio: Asistencia técnica para el des
END:VALARM
END:VEVENT
END:VCALENDAR