BEGIN:VCALENDAR
VERSION:2.0
PRODID:-//Contratero//ES
CALSCALE:GREGORIAN
METHOD:PUBLISH
BEGIN:VEVENT
UID:2023/AR40U/00001058E@contratero.es
DTSTAMP:20260423T171119Z
DTSTART:20240629T235959
DTEND:20240630T005959
SUMMARY:Cierre: SINFO - Tramitación anticipada - Asistencia técnic
DESCRIPTION:SINFO - Tramitación anticipada - Asistencia técnica para el mantenimiento de los Portales Web de la Armada en Intranet e Internet 2024-25\\n\\nOrganismo: Dirección de Gestión Económica de la Jefatura de Apoyo Logístico de la Armada\\n\\nVer en Contratero: https://contratero.es/contracts/2023/AR40U/00001058E
URL:https://contratero.es/contracts/2023/AR40U/00001058E
STATUS:CONFIRMED
BEGIN:VALARM
TRIGGER:-P1D
ACTION:DISPLAY
DESCRIPTION:Recordatorio: SINFO - Tramitación anticipada
END:VALARM
END:VEVENT
END:VCALENDAR