BEGIN:VCALENDAR
VERSION:2.0
PRODID:-//Contratero//ES
CALSCALE:GREGORIAN
METHOD:PUBLISH
BEGIN:VEVENT
UID:2023/C-SERVIN/6@contratero.es
DTSTAMP:20260426T014224Z
DTSTART:20240215T235959
DTEND:20240216T005959
SUMMARY:Cierre: Servicio de actualización e integración de la plat
DESCRIPTION:Servicio de actualización e integración de la plataforma informática MERCANOVA en el mercado municipal de Aldaia y formación de los operadores del mercado 8PRTR-NGEU)\\n\\nOrganismo: Alcaldía del Ayuntamiento de Aldaia\\n\\nVer en Contratero: https://contratero.es/contracts/2023/C-SERVIN/6
URL:https://contratero.es/contracts/2023/C-SERVIN/6
STATUS:CONFIRMED
BEGIN:VALARM
TRIGGER:-P1D
ACTION:DISPLAY
DESCRIPTION:Recordatorio: Servicio de actualización e in
END:VALARM
END:VEVENT
END:VCALENDAR