BEGIN:VCALENDAR
VERSION:2.0
PRODID:-//Contratero//ES
CALSCALE:GREGORIAN
METHOD:PUBLISH
BEGIN:VEVENT
UID:2023/CTR/0900198@contratero.es
DTSTAMP:20260423T132102Z
DTSTART:20230521T235959
DTEND:20230522T005959
SUMMARY:Cierre: El objeto de este contrato es el de la adquisición
DESCRIPTION:El objeto de este contrato es el de la adquisición de diferentes licencias de productos necesarios\npara el correcto funcionamiento del software de productividad y colaboración del Departamento\nde Sist...\\n\\nOrganismo: Dirección de la Agencia Española de Cooperación Internacional para el Desarrollo (AECID)\\n\\nVer en Contratero: https://contratero.es/contracts/2023/CTR/0900198
URL:https://contratero.es/contracts/2023/CTR/0900198
STATUS:CONFIRMED
BEGIN:VALARM
TRIGGER:-P1D
ACTION:DISPLAY
DESCRIPTION:Recordatorio: El objeto de este contrato es 
END:VALARM
END:VEVENT
END:VCALENDAR