BEGIN:VCALENDAR
VERSION:2.0
PRODID:-//Contratero//ES
CALSCALE:GREGORIAN
METHOD:PUBLISH
BEGIN:VEVENT
UID:2023/D22200/006-212/00002@contratero.es
DTSTAMP:20260422T085801Z
DTSTART:20230518T235959
DTEND:20230519T005959
SUMMARY:Cierre: suscripción licencias creative cloud
DESCRIPTION:suscripción licencias creative cloud\\n\\nOrganismo: Junta de Gobierno de la Diputación Provincial de Almería\\n\\nVer en Contratero: https://contratero.es/contracts/2023/D22200/006-212/00002
URL:https://contratero.es/contracts/2023/D22200/006-212/00002
STATUS:CONFIRMED
BEGIN:VALARM
TRIGGER:-P1D
ACTION:DISPLAY
DESCRIPTION:Recordatorio: suscripción licencias creative
END:VALARM
END:VEVENT
END:VCALENDAR