BEGIN:VCALENDAR
VERSION:2.0
PRODID:-//Contratero//ES
CALSCALE:GREGORIAN
METHOD:PUBLISH
BEGIN:VEVENT
UID:2023/D22200/006-303/00004@contratero.es
DTSTAMP:20260425T001403Z
DTSTART:20230821T235959
DTEND:20230822T005959
SUMMARY:Cierre: servicios de soporte y mantenimiento de las aplica
DESCRIPTION:servicios de soporte y mantenimiento de las aplicaciones Sicalwin\, Sigep\, Aytosfactur@\, Gpa\, Recursos Humanos Basicos\, capa de integracion Sicalwin\, capa de integracion Sigep\, capa de integracion Gpa\,...\\n\\nOrganismo: Junta de Gobierno de la Diputación Provincial de Almería\\n\\nVer en Contratero: https://contratero.es/contracts/2023/D22200/006-303/00004
URL:https://contratero.es/contracts/2023/D22200/006-303/00004
STATUS:CONFIRMED
BEGIN:VALARM
TRIGGER:-P1D
ACTION:DISPLAY
DESCRIPTION:Recordatorio: servicios de soporte y manteni
END:VALARM
END:VEVENT
END:VCALENDAR