BEGIN:VCALENDAR
VERSION:2.0
PRODID:-//Contratero//ES
CALSCALE:GREGORIAN
METHOD:PUBLISH
BEGIN:VEVENT
UID:2023/ETSAE0427/00001800E@contratero.es
DTSTAMP:20260421T130459Z
DTSTART:20230803T235959
DTEND:20230804T005959
SUMMARY:Cierre: Servicio de asistencia técnica para producción de 
DESCRIPTION:Servicio de asistencia técnica para producción de una estación de realidad aumentada en el Museo Histórico Militar de A Coruña\, desde la fecha de formalización del contrato hasta el 11NOV23\\n\\nOrganismo: Jefatura de Intendencia de Asuntos Económicos Oeste\\n\\nVer en Contratero: https://contratero.es/contracts/2023/ETSAE0427/00001800E
URL:https://contratero.es/contracts/2023/ETSAE0427/00001800E
STATUS:CONFIRMED
BEGIN:VALARM
TRIGGER:-P1D
ACTION:DISPLAY
DESCRIPTION:Recordatorio: Servicio de asistencia técnica
END:VALARM
END:VEVENT
END:VCALENDAR