BEGIN:VCALENDAR
VERSION:2.0
PRODID:-//Contratero//ES
CALSCALE:GREGORIAN
METHOD:PUBLISH
BEGIN:VEVENT
UID:2023/ETSAE0906/00004343E@contratero.es
DTSTAMP:20260423T020021Z
DTSTART:20240419T235959
DTEND:20240420T005959
SUMMARY:Cierre: Mantenimiento del software de simulación steel bea
DESCRIPTION:Mantenimiento del software de simulación steel beasts\\n\\nOrganismo: Jefatura de Asuntos Económicos del Mando de Apoyo Logístico\\n\\nVer en Contratero: https://contratero.es/contracts/2023/ETSAE0906/00004343E
URL:https://contratero.es/contracts/2023/ETSAE0906/00004343E
STATUS:CONFIRMED
BEGIN:VALARM
TRIGGER:-P1D
ACTION:DISPLAY
DESCRIPTION:Recordatorio: Mantenimiento del software de 
END:VALARM
END:VEVENT
END:VCALENDAR