BEGIN:VCALENDAR
VERSION:2.0
PRODID:-//Contratero//ES
CALSCALE:GREGORIAN
METHOD:PUBLISH
BEGIN:VEVENT
UID:2023/LIC/0062@contratero.es
DTSTAMP:20260422T033030Z
DTSTART:20231122T235959
DTEND:20231123T005959
SUMMARY:Cierre: Servicio de desarrollo\, acceso\, mantenimiento y ac
DESCRIPTION:Servicio de desarrollo\, acceso\, mantenimiento y actualización de la base de datos de relaciones laborales con integración en la oficina virtual de EGARSAT\, Mutua Colaboradora con la Seguridad Social N...\\n\\nOrganismo: Gerencia de EGARSAT\\n\\nVer en Contratero: https://contratero.es/contracts/2023/LIC/0062
URL:https://contratero.es/contracts/2023/LIC/0062
STATUS:CONFIRMED
BEGIN:VALARM
TRIGGER:-P1D
ACTION:DISPLAY
DESCRIPTION:Recordatorio: Servicio de desarrollo\, acceso
END:VALARM
END:VEVENT
END:VCALENDAR