BEGIN:VCALENDAR
VERSION:2.0
PRODID:-//Contratero//ES
CALSCALE:GREGORIAN
METHOD:PUBLISH
BEGIN:VEVENT
UID:2023/NEG/001989@contratero.es
DTSTAMP:20260420T165115Z
DTSTART:20240201T235959
DTEND:20240202T005959
SUMMARY:Cierre: Servicio de mantenimiento de actualización del sof
DESCRIPTION:Servicio de mantenimiento de actualización del software SECIGEST y SECIGESTWEB\\n\\nOrganismo: Junta de Gobierno Local del Ayuntamiento de Fuenlabrada\\n\\nVer en Contratero: https://contratero.es/contracts/2023/NEG/001989
URL:https://contratero.es/contracts/2023/NEG/001989
STATUS:CONFIRMED
BEGIN:VALARM
TRIGGER:-P1D
ACTION:DISPLAY
DESCRIPTION:Recordatorio: Servicio de mantenimiento de a
END:VALARM
END:VEVENT
END:VCALENDAR