BEGIN:VCALENDAR
VERSION:2.0
PRODID:-//Contratero//ES
CALSCALE:GREGORIAN
METHOD:PUBLISH
BEGIN:VEVENT
UID:2023/NSP-SE-0142@contratero.es
DTSTAMP:20260423T214723Z
DTSTART:20231227T235959
DTEND:20231228T005959
SUMMARY:Cierre: Servicio de mantenimiento de la solución I-Formali
DESCRIPTION:Servicio de mantenimiento de la solución I-Formalia\, para la gestión de los procesos de reclutamiento y selección de personal de la Sociedad Aragonesa de Gestión Agroambiental\, S.LU.\\n\\nOrganismo: Sociedad Aragonesa de Gestión Agroambiental\, S.L.U. (SARGA)\\n\\nVer en Contratero: https://contratero.es/contracts/2023/NSP-SE-0142
URL:https://contratero.es/contracts/2023/NSP-SE-0142
STATUS:CONFIRMED
BEGIN:VALARM
TRIGGER:-P1D
ACTION:DISPLAY
DESCRIPTION:Recordatorio: Servicio de mantenimiento de l
END:VALARM
END:VEVENT
END:VCALENDAR