BEGIN:VCALENDAR
VERSION:2.0
PRODID:-//Contratero//ES
CALSCALE:GREGORIAN
METHOD:PUBLISH
BEGIN:VEVENT
UID:2023/S00035@contratero.es
DTSTAMP:20260421T130235Z
DTSTART:20230921T235959
DTEND:20230922T005959
SUMMARY:Cierre: Organización\, descripción y digitalización de foto
DESCRIPTION:Organización\, descripción y digitalización de fotografías impresas\, negativos fotográficos y archivo de vídeo para crear el Archivo Audiovisual dentro del Archivo de la Universidad de Valladolid.\\n\\nOrganismo: Rectorado de la Universidad de Valladolid\\n\\nVer en Contratero: https://contratero.es/contracts/2023/S00035
URL:https://contratero.es/contracts/2023/S00035
STATUS:CONFIRMED
BEGIN:VALARM
TRIGGER:-P1D
ACTION:DISPLAY
DESCRIPTION:Recordatorio: Organización\, descripción y di
END:VALARM
END:VEVENT
END:VCALENDAR