BEGIN:VCALENDAR
VERSION:2.0
PRODID:-//Contratero//ES
CALSCALE:GREGORIAN
METHOD:PUBLISH
BEGIN:VEVENT
UID:2023/SP01010020/00000345E@contratero.es
DTSTAMP:20260422T023109Z
DTSTART:20230629T235959
DTEND:20230630T005959
SUMMARY:Cierre: Servicio de descripción\, digitalización y generaci
DESCRIPTION:Servicio de descripción\, digitalización y generación de distintos tipos de metadatos de materiales textuales conservados en centros del Ministerio de Defensa.\\n\\nOrganismo: Subdirección General de Servicios Económicos y Pagadurías\\n\\nVer en Contratero: https://contratero.es/contracts/2023/SP01010020/00000345E
URL:https://contratero.es/contracts/2023/SP01010020/00000345E
STATUS:CONFIRMED
BEGIN:VALARM
TRIGGER:-P1D
ACTION:DISPLAY
DESCRIPTION:Recordatorio: Servicio de descripción\, digit
END:VALARM
END:VEVENT
END:VCALENDAR