BEGIN:VCALENDAR
VERSION:2.0
PRODID:-//Contratero//ES
CALSCALE:GREGORIAN
METHOD:PUBLISH
BEGIN:VEVENT
UID:2023/SP01460020/00000972E@contratero.es
DTSTAMP:20260421T130414Z
DTSTART:20240521T235959
DTEND:20240522T005959
SUMMARY:Cierre: Acuerdo Marco para mantenimiento de instalaciones 
DESCRIPTION:Acuerdo Marco para mantenimiento de instalaciones por exclusividad\\n\\nOrganismo: Inspección General de Sanidad de la Defensa\\n\\nVer en Contratero: https://contratero.es/contracts/2023/SP01460020/00000972E
URL:https://contratero.es/contracts/2023/SP01460020/00000972E
STATUS:CONFIRMED
BEGIN:VALARM
TRIGGER:-P1D
ACTION:DISPLAY
DESCRIPTION:Recordatorio: Acuerdo Marco para mantenimien
END:VALARM
END:VEVENT
END:VCALENDAR