BEGIN:VCALENDAR
VERSION:2.0
PRODID:-//Contratero//ES
CALSCALE:GREGORIAN
METHOD:PUBLISH
BEGIN:VEVENT
UID:2023/SP03032003/00002024E@contratero.es
DTSTAMP:20260422T194502Z
DTSTART:20231203T235959
DTEND:20231204T005959
SUMMARY:Cierre: Actualización y soporte técnico de las licencias s
DESCRIPTION:Actualización y soporte técnico de las licencias software del Sistema de Información de Sanidad del Ministerio de Defensa (SISANDEF) 2023-2024. Software infraestructura base HCIS\\n\\nOrganismo: Dirección Económico Financiero de la Dirección General de Infraestructura. MDE\\n\\nVer en Contratero: https://contratero.es/contracts/2023/SP03032003/00002024E
URL:https://contratero.es/contracts/2023/SP03032003/00002024E
STATUS:CONFIRMED
BEGIN:VALARM
TRIGGER:-P1D
ACTION:DISPLAY
DESCRIPTION:Recordatorio: Actualización y soporte técnic
END:VALARM
END:VEVENT
END:VCALENDAR