BEGIN:VCALENDAR
VERSION:2.0
PRODID:-//Contratero//ES
CALSCALE:GREGORIAN
METHOD:PUBLISH
BEGIN:VEVENT
UID:2023/SP03032003/00002124E@contratero.es
DTSTAMP:20260423T063231Z
DTSTART:20231129T235959
DTEND:20231130T005959
SUMMARY:Cierre: Servicios de Soporte Técnico Corporativo de los pr
DESCRIPTION:Servicios de Soporte Técnico Corporativo de los productos del fabricante Microsoft para el Ministerio de Defensa\\n\\nOrganismo: Dirección Económico Financiero de la Dirección General de Infraestructura. MDE\\n\\nVer en Contratero: https://contratero.es/contracts/2023/SP03032003/00002124E
URL:https://contratero.es/contracts/2023/SP03032003/00002124E
STATUS:CONFIRMED
BEGIN:VALARM
TRIGGER:-P1D
ACTION:DISPLAY
DESCRIPTION:Recordatorio: Servicios de Soporte Técnico C
END:VALARM
END:VEVENT
END:VCALENDAR