BEGIN:VCALENDAR
VERSION:2.0
PRODID:-//Contratero//ES
CALSCALE:GREGORIAN
METHOD:PUBLISH
BEGIN:VEVENT
UID:2023/SP03032003/00002912E@contratero.es
DTSTAMP:20260421T154632Z
DTSTART:20231218T235959
DTEND:20231219T005959
SUMMARY:Cierre: Ampliación de licenciamiento\, actualización y sopo
DESCRIPTION:Ampliación de licenciamiento\, actualización y soporte técnico de la herramienta software desplegada para el Sistema de Mensajería Formal del Ministerio de Defensa.\\n\\nOrganismo: Dirección Económico Financiero de la Dirección General de Infraestructura. MDE\\n\\nVer en Contratero: https://contratero.es/contracts/2023/SP03032003/00002912E
URL:https://contratero.es/contracts/2023/SP03032003/00002912E
STATUS:CONFIRMED
BEGIN:VALARM
TRIGGER:-P1D
ACTION:DISPLAY
DESCRIPTION:Recordatorio: Ampliación de licenciamiento\, 
END:VALARM
END:VEVENT
END:VCALENDAR