BEGIN:VCALENDAR
VERSION:2.0
PRODID:-//Contratero//ES
CALSCALE:GREGORIAN
METHOD:PUBLISH
BEGIN:VEVENT
UID:202300000024@contratero.es
DTSTAMP:20260421T142417Z
DTSTART:20230628T235959
DTEND:20230629T005959
SUMMARY:Cierre: Trabajos necesarios para la depuración\, actualizac
DESCRIPTION:Trabajos necesarios para la depuración\, actualización de datos\, regularización catastral y en su caso\, desadscripción de los caminos generales y de servicio gestionados por la Confederación Hidrográfi...\\n\\nOrganismo: Presidencia de la Confederación Hidrográfica del Guadiana\\n\\nVer en Contratero: https://contratero.es/contracts/202300000024
URL:https://contratero.es/contracts/202300000024
STATUS:CONFIRMED
BEGIN:VALARM
TRIGGER:-P1D
ACTION:DISPLAY
DESCRIPTION:Recordatorio: Trabajos necesarios para la de
END:VALARM
END:VEVENT
END:VCALENDAR