BEGIN:VCALENDAR
VERSION:2.0
PRODID:-//Contratero//ES
CALSCALE:GREGORIAN
METHOD:PUBLISH
BEGIN:VEVENT
UID:202300000132@contratero.es
DTSTAMP:20260421T081041Z
DTSTART:20231017T235959
DTEND:20231018T005959
SUMMARY:Cierre: Servicio para la actualización y mejora del invent
DESCRIPTION:Servicio para la actualización y mejora del inventario de bienes propios y adscritos de la Agencia Estatal de Meteorología\\n\\nOrganismo: Presidencia de la Agencia Estatal de Meteorología\\n\\nVer en Contratero: https://contratero.es/contracts/202300000132
URL:https://contratero.es/contracts/202300000132
STATUS:CONFIRMED
BEGIN:VALARM
TRIGGER:-P1D
ACTION:DISPLAY
DESCRIPTION:Recordatorio: Servicio para la actualización
END:VALARM
END:VEVENT
END:VCALENDAR