BEGIN:VCALENDAR
VERSION:2.0
PRODID:-//Contratero//ES
CALSCALE:GREGORIAN
METHOD:PUBLISH
BEGIN:VEVENT
UID:202300000214@contratero.es
DTSTAMP:20260424T221656Z
DTSTART:20230908T235959
DTEND:20230909T005959
SUMMARY:Cierre: Servicios informáticos para apoyo en la administra
DESCRIPTION:Servicios informáticos para apoyo en la administración y operación de la plataforma tecnológica del INVIED O.A. y sus sistemas de información.\\n\\nOrganismo: Instituto de Vivienda\, Infraestructura y Equipamiento de la Defensa (INVIED)\\n\\nVer en Contratero: https://contratero.es/contracts/202300000214
URL:https://contratero.es/contracts/202300000214
STATUS:CONFIRMED
BEGIN:VALARM
TRIGGER:-P1D
ACTION:DISPLAY
DESCRIPTION:Recordatorio: Servicios informáticos para ap
END:VALARM
END:VEVENT
END:VCALENDAR