BEGIN:VCALENDAR
VERSION:2.0
PRODID:-//Contratero//ES
CALSCALE:GREGORIAN
METHOD:PUBLISH
BEGIN:VEVENT
UID:20230000142M@contratero.es
DTSTAMP:20260426T002039Z
DTSTART:20240228T235959
DTEND:20240229T005959
SUMMARY:Cierre: Servicio de mantenimiento y la asistencia técnica 
DESCRIPTION:Servicio de mantenimiento y la asistencia técnica del software Albalá en modo Saas para el Archivo General del Departamento\\n\\nOrganismo: Dirección General de Servicios\\n\\nVer en Contratero: https://contratero.es/contracts/20230000142M
URL:https://contratero.es/contracts/20230000142M
STATUS:CONFIRMED
BEGIN:VALARM
TRIGGER:-P1D
ACTION:DISPLAY
DESCRIPTION:Recordatorio: Servicio de mantenimiento y la
END:VALARM
END:VEVENT
END:VCALENDAR