BEGIN:VCALENDAR
VERSION:2.0
PRODID:-//Contratero//ES
CALSCALE:GREGORIAN
METHOD:PUBLISH
BEGIN:VEVENT
UID:2023000060@contratero.es
DTSTAMP:20260421T061818Z
DTSTART:20230419T235959
DTEND:20230420T005959
SUMMARY:Cierre: Servicio de ayuda y codificación CIE-10-ES de info
DESCRIPTION:Servicio de ayuda y codificación CIE-10-ES de informes de alta de hospitalización del Hospital Vital Álvarez Buylla\\n\\nOrganismo: Gerencia del Área Sanitaria VII del Servicio de Salud del Principado de Asturias\\n\\nVer en Contratero: https://contratero.es/contracts/2023000060
URL:https://contratero.es/contracts/2023000060
STATUS:CONFIRMED
BEGIN:VALARM
TRIGGER:-P1D
ACTION:DISPLAY
DESCRIPTION:Recordatorio: Servicio de ayuda y codificaci
END:VALARM
END:VEVENT
END:VCALENDAR