BEGIN:VCALENDAR
VERSION:2.0
PRODID:-//Contratero//ES
CALSCALE:GREGORIAN
METHOD:PUBLISH
BEGIN:VEVENT
UID:2023000065@contratero.es
DTSTAMP:20260425T163421Z
DTSTART:20231011T235959
DTEND:20231012T005959
SUMMARY:Cierre: Servicio de mantenimiento y desarrollo de nuevas f
DESCRIPTION:Servicio de mantenimiento y desarrollo de nuevas funcionalidades de la Plataforma de Presupuestos Participativos y consultas ciudadanas basada en CONSUL\\n\\nOrganismo: Junta de Gobierno del Ayuntamiento de Getafe\\n\\nVer en Contratero: https://contratero.es/contracts/2023000065
URL:https://contratero.es/contracts/2023000065
STATUS:CONFIRMED
BEGIN:VALARM
TRIGGER:-P1D
ACTION:DISPLAY
DESCRIPTION:Recordatorio: Servicio de mantenimiento y de
END:VALARM
END:VEVENT
END:VCALENDAR